BEGIN:VCALENDAR
VERSION:2.0
PRODID:-//Pik Rite - ECPv6.15.20//NONSGML v1.0//EN
CALSCALE:GREGORIAN
METHOD:PUBLISH
X-WR-CALNAME:Pik Rite
X-ORIGINAL-URL:https://www.pikrite.com
X-WR-CALDESC:Events for Pik Rite
REFRESH-INTERVAL;VALUE=DURATION:PT1H
X-Robots-Tag:noindex
X-PUBLISHED-TTL:PT1H
BEGIN:VTIMEZONE
TZID:America/New_York
BEGIN:DAYLIGHT
TZOFFSETFROM:-0500
TZOFFSETTO:-0400
TZNAME:EDT
DTSTART:20160313T070000
END:DAYLIGHT
BEGIN:STANDARD
TZOFFSETFROM:-0400
TZOFFSETTO:-0500
TZNAME:EST
DTSTART:20161106T060000
END:STANDARD
BEGIN:DAYLIGHT
TZOFFSETFROM:-0500
TZOFFSETTO:-0400
TZNAME:EDT
DTSTART:20170312T070000
END:DAYLIGHT
BEGIN:STANDARD
TZOFFSETFROM:-0400
TZOFFSETTO:-0500
TZNAME:EST
DTSTART:20171105T060000
END:STANDARD
BEGIN:DAYLIGHT
TZOFFSETFROM:-0500
TZOFFSETTO:-0400
TZNAME:EDT
DTSTART:20180311T070000
END:DAYLIGHT
BEGIN:STANDARD
TZOFFSETFROM:-0400
TZOFFSETTO:-0500
TZNAME:EST
DTSTART:20181104T060000
END:STANDARD
BEGIN:DAYLIGHT
TZOFFSETFROM:-0500
TZOFFSETTO:-0400
TZNAME:EDT
DTSTART:20190310T070000
END:DAYLIGHT
BEGIN:STANDARD
TZOFFSETFROM:-0400
TZOFFSETTO:-0500
TZNAME:EST
DTSTART:20191103T060000
END:STANDARD
BEGIN:DAYLIGHT
TZOFFSETFROM:-0500
TZOFFSETTO:-0400
TZNAME:EDT
DTSTART:20200308T070000
END:DAYLIGHT
BEGIN:STANDARD
TZOFFSETFROM:-0400
TZOFFSETTO:-0500
TZNAME:EST
DTSTART:20201101T060000
END:STANDARD
BEGIN:DAYLIGHT
TZOFFSETFROM:-0500
TZOFFSETTO:-0400
TZNAME:EDT
DTSTART:20210314T070000
END:DAYLIGHT
BEGIN:STANDARD
TZOFFSETFROM:-0400
TZOFFSETTO:-0500
TZNAME:EST
DTSTART:20211107T060000
END:STANDARD
BEGIN:DAYLIGHT
TZOFFSETFROM:-0500
TZOFFSETTO:-0400
TZNAME:EDT
DTSTART:20220313T070000
END:DAYLIGHT
BEGIN:STANDARD
TZOFFSETFROM:-0400
TZOFFSETTO:-0500
TZNAME:EST
DTSTART:20221106T060000
END:STANDARD
BEGIN:DAYLIGHT
TZOFFSETFROM:-0500
TZOFFSETTO:-0400
TZNAME:EDT
DTSTART:20230312T070000
END:DAYLIGHT
BEGIN:STANDARD
TZOFFSETFROM:-0400
TZOFFSETTO:-0500
TZNAME:EST
DTSTART:20231105T060000
END:STANDARD
BEGIN:DAYLIGHT
TZOFFSETFROM:-0500
TZOFFSETTO:-0400
TZNAME:EDT
DTSTART:20240310T070000
END:DAYLIGHT
BEGIN:STANDARD
TZOFFSETFROM:-0400
TZOFFSETTO:-0500
TZNAME:EST
DTSTART:20241103T060000
END:STANDARD
BEGIN:DAYLIGHT
TZOFFSETFROM:-0500
TZOFFSETTO:-0400
TZNAME:EDT
DTSTART:20250309T070000
END:DAYLIGHT
BEGIN:STANDARD
TZOFFSETFROM:-0400
TZOFFSETTO:-0500
TZNAME:EST
DTSTART:20251102T060000
END:STANDARD
BEGIN:DAYLIGHT
TZOFFSETFROM:-0500
TZOFFSETTO:-0400
TZNAME:EDT
DTSTART:20260308T070000
END:DAYLIGHT
BEGIN:STANDARD
TZOFFSETFROM:-0400
TZOFFSETTO:-0500
TZNAME:EST
DTSTART:20261101T060000
END:STANDARD
END:VTIMEZONE
BEGIN:VEVENT
DTSTART;VALUE=DATE:20250107
DTEND;VALUE=DATE:20250110
DTSTAMP:20260423T103707
CREATED:20240221T173302Z
LAST-MODIFIED:20240221T173341Z
UID:8450-1736208000-1736467199@www.pikrite.com
SUMMARY:Keystone Farm Show
DESCRIPTION:
URL:https://www.pikrite.com/event/keystone-farm-show-2/
LOCATION:York Fairgrounds\, 334 Carlisle Ave\, York\, PA\, United States
CATEGORIES:Ag Trade Shows
END:VEVENT
BEGIN:VEVENT
DTSTART;VALUE=DATE:20240813
DTEND;VALUE=DATE:20240816
DTSTAMP:20260423T103707
CREATED:20240221T172755Z
LAST-MODIFIED:20240221T172755Z
UID:8446-1723507200-1723766399@www.pikrite.com
SUMMARY:Penn State Ag Progress Days
DESCRIPTION:
URL:https://www.pikrite.com/event/penn-state-ag-progress-days/
LOCATION:Russell E. Larson Agricultural Research Center\, 2710 W. Pine Grove Rd.\, Pennsylvania Furnace\, PA\, 16865
CATEGORIES:Ag Trade Shows
END:VEVENT
BEGIN:VEVENT
DTSTART;VALUE=DATE:20240804
DTEND;VALUE=DATE:20240811
DTSTAMP:20260423T103707
CREATED:20240221T173039Z
LAST-MODIFIED:20240221T173147Z
UID:8449-1722729600-1723334399@www.pikrite.com
SUMMARY:Union County West End Fair
DESCRIPTION:
URL:https://www.pikrite.com/event/union-county-west-end-fair-2/
LOCATION:Union County West End Fair\, 1111 PA-235\, Laurelton\, PA\, 17835\, United States
END:VEVENT
BEGIN:VEVENT
DTSTART;VALUE=DATE:20240319
DTEND;VALUE=DATE:20240320
DTSTAMP:20260423T103707
CREATED:20240221T171918Z
LAST-MODIFIED:20240221T172400Z
UID:8444-1710806400-1710892799@www.pikrite.com
SUMMARY:Penn Ag "The Expo"
DESCRIPTION:
URL:https://www.pikrite.com/event/penn-ag-the-expo/
LOCATION:Lebanon Expo Center\, 80 Rocherty Rd.\, Lebanon\, PA\, 17042
CATEGORIES:Ag Trade Shows
END:VEVENT
BEGIN:VEVENT
DTSTART;VALUE=DATE:20240222
DTEND;VALUE=DATE:20240225
DTSTAMP:20260423T103707
CREATED:20230604T033218Z
LAST-MODIFIED:20240221T172540Z
UID:2783-1708560000-1708819199@www.pikrite.com
SUMMARY:New York Farm Show
DESCRIPTION:
URL:https://www.pikrite.com/event/new-york-farm-show/
LOCATION:New York State Fairgrounds\, 581 State Fair Blvd\, Syracuse\, NY\, 13209\, United States
CATEGORIES:Ag Trade Shows
END:VEVENT
BEGIN:VEVENT
DTSTART;VALUE=DATE:20240125
DTEND;VALUE=DATE:20240128
DTSTAMP:20260423T103707
CREATED:20220614T131953Z
LAST-MODIFIED:20230609T190326Z
UID:8095-1706140800-1706399999@www.pikrite.com
SUMMARY:WWETT Show
DESCRIPTION:
URL:https://www.pikrite.com/event/wwett-show-2/
LOCATION:Indiana Convention Center\, 100 S Capitol Ave\, Indianapolis\, IN\, 46225
CATEGORIES:Truck/Tank Trade Shows
END:VEVENT
BEGIN:VEVENT
DTSTART;VALUE=DATE:20240109
DTEND;VALUE=DATE:20240112
DTSTAMP:20260423T103707
CREATED:20230607T032044Z
LAST-MODIFIED:20230609T194510Z
UID:2778-1704758400-1705017599@www.pikrite.com
SUMMARY:Keystone Farm Show
DESCRIPTION:The Keystone Farm Show is the fastest growing farm show on the East Coast! Started in January of 1998 to address the needs of agrimarketers in the Mid-Atlantic area\, the show has nearly tripled in size! The Keystone Farm Show has been extended to 3 days to accommodate the increase in attendance. \nThis show targets only full-time farmers in Pennsylvania\, New Jersey\, Maryland\, and Northern Virginia. Since its inception\, the Keystone Farm Show has tripled in number of exhibitors and uses all available space at the York Fairgrounds including the newly refurbished Heritage Hall.
URL:https://www.pikrite.com/event/keystone-farm-show/
LOCATION:York Fairgrounds\, 334 Carlisle Ave\, York\, PA\, United States
CATEGORIES:Ag Trade Shows
END:VEVENT
BEGIN:VEVENT
DTSTART;VALUE=DATE:20230919
DTEND;VALUE=DATE:20230922
DTSTAMP:20260423T103707
CREATED:20220614T130947Z
LAST-MODIFIED:20230609T191406Z
UID:8093-1695081600-1695340799@www.pikrite.com
SUMMARY:Farm Science Review
DESCRIPTION:
URL:https://www.pikrite.com/event/farm-science-review-2/
LOCATION:FSR Grounds\, 135 SR 38 NE\, London\, OH\, 43140\, United States
CATEGORIES:Ag Trade Shows
END:VEVENT
BEGIN:VEVENT
DTSTART;VALUE=DATE:20200811
DTEND;VALUE=DATE:20200814
DTSTAMP:20260423T103707
CREATED:20200429T182421Z
LAST-MODIFIED:20200429T182421Z
UID:5375-1597104000-1597363199@www.pikrite.com
SUMMARY:Ag Progress Days
DESCRIPTION:
URL:https://www.pikrite.com/event/ag-progress-days-3/
LOCATION:KY
END:VEVENT
BEGIN:VEVENT
DTSTART;VALUE=DATE:20200729
DTEND;VALUE=DATE:20200801
DTSTAMP:20260423T103707
CREATED:20200429T182722Z
LAST-MODIFIED:20200429T182722Z
UID:5376-1595980800-1596239999@www.pikrite.com
SUMMARY:Empire Farm Days
DESCRIPTION:
URL:https://www.pikrite.com/event/empire-farm-days-3/
LOCATION:KY
END:VEVENT
BEGIN:VEVENT
DTSTART;TZID=America/New_York:20190519T123000
DTEND;TZID=America/New_York:20190519T190000
DTSTAMP:20260423T103707
CREATED:20190313T160526Z
LAST-MODIFIED:20190313T160634Z
UID:4951-1558269000-1558292400@www.pikrite.com
SUMMARY:Company Picnic
DESCRIPTION:
URL:https://www.pikrite.com/event/company-picnic/
LOCATION:KY
END:VEVENT
BEGIN:VEVENT
DTSTART;VALUE=DATE:20180918
DTEND;VALUE=DATE:20180921
DTSTAMP:20260423T103707
CREATED:20180515T183850Z
LAST-MODIFIED:20180515T183850Z
UID:4483-1537228800-1537487999@www.pikrite.com
SUMMARY:Farm Science Review
DESCRIPTION:With more than 700 exhibitors and well over 100\,000 in annual attendance\, Farm Science Review is the nation’s premier agricultural education and industry exposition.  Additionally\, there are 150 seminars and educational displays to support many areas of the agricultural industry.  All farms large to small and producers from major commodities to the smallest niche markets\, are searching for ways to improve their operations at Farm Science Review.
URL:https://www.pikrite.com/event/farm-science-review/
LOCATION:Molly Caren Agricultural Center\, 135 SR 38 NE\, London\, OH\, 43140\, United States
END:VEVENT
BEGIN:VEVENT
DTSTART;VALUE=DATE:20180814
DTEND;VALUE=DATE:20180817
DTSTAMP:20260423T103707
CREATED:20180515T180112Z
LAST-MODIFIED:20180515T180112Z
UID:4481-1534204800-1534463999@www.pikrite.com
SUMMARY:Ag Progress Days
DESCRIPTION:Ag Progress Days at Penn State\, held annually during three days in August\, is Pennsylvania’s largest outdoor agricultural exposition.
URL:https://www.pikrite.com/event/ag-progress-days-2/
LOCATION:Russell E. Larson Agricultural Research Center\, 2710 W. Pine Grove Rd.\, Pennsylvania Furnace\, PA\, 16865
END:VEVENT
BEGIN:VEVENT
DTSTART;VALUE=DATE:20180807
DTEND;VALUE=DATE:20180810
DTSTAMP:20260423T103707
CREATED:20180515T175520Z
LAST-MODIFIED:20180515T175520Z
UID:4478-1533600000-1533859199@www.pikrite.com
SUMMARY:Empire Farm Days
DESCRIPTION:See the latest innovations and farm equipment in one location!
URL:https://www.pikrite.com/event/empire-farm-days-2/
LOCATION:Rodman Lott and Son Farms\, 2973 State Route 414\, Seneca Falls\, NY\, 13148
END:VEVENT
BEGIN:VEVENT
DTSTART;VALUE=DATE:20180805
DTEND;VALUE=DATE:20180812
DTSTAMP:20260423T103707
CREATED:20170104T043621Z
LAST-MODIFIED:20180125T132326Z
UID:2787-1533427200-1534031999@www.pikrite.com
SUMMARY:Union County West End Fair
DESCRIPTION:The Union County West End Fair Association invites you to come to the fair and experience the past as you enjoy the excitement of a traditional old country fair. \nVisit us at Lincoln Park to rekindle old friendships or meet new people and to share an appreciation for the agricultural heritage of central Pennsylvania.
URL:https://www.pikrite.com/event/west-end-fair/
LOCATION:Union County West End Fair\, 1111 PA-235\, Laurelton\, PA\, 17835\, United States
CATEGORIES:Ag Trade Shows
END:VEVENT
BEGIN:VEVENT
DTSTART;VALUE=DATE:20180306
DTEND;VALUE=DATE:20180310
DTSTAMP:20260423T103707
CREATED:20170124T032406Z
LAST-MODIFIED:20180125T204809Z
UID:2967-1520294400-1520639999@www.pikrite.com
SUMMARY:The Work Truck Show
DESCRIPTION:The must-attend event for the work truck industry. North America’s largest work truck event is your once-a-year chance to see all of the newest industry products.
URL:https://www.pikrite.com/event/work-truck-show/
LOCATION:Indiana Convention Center\, 100 S Capitol Ave\, Indianapolis\, IN\, 46225
CATEGORIES:Truck/Tank Trade Shows
END:VEVENT
BEGIN:VEVENT
DTSTART;VALUE=DATE:20180222
DTEND;VALUE=DATE:20180225
DTSTAMP:20260423T103707
CREATED:20170124T032023Z
LAST-MODIFIED:20180125T130611Z
UID:2964-1519257600-1519516799@www.pikrite.com
SUMMARY:WWETT Show
DESCRIPTION:The WWETT Show – Water & Wastewater Equipment\, Treatment & Transport – is the largest annual U.S. trade show for the wastewater industry. With a robust Marketplace Expo\, best-in-the-industry education\, a festival of live demos\, and great parties and events\, the WWETT Show is truly the Industry Event of the Year. Be a part of it all at the Indiana Convention Center February 21-24\, 2018.
URL:https://www.pikrite.com/event/wwett-show/
LOCATION:Indiana Convention Center\, 100 S Capitol Ave\, Indianapolis\, IN\, 46225
CATEGORIES:Truck/Tank Trade Shows
END:VEVENT
BEGIN:VEVENT
DTSTART;VALUE=DATE:20180129
DTEND;VALUE=DATE:20180131
DTSTAMP:20260423T103707
CREATED:20180125T124606Z
LAST-MODIFIED:20180125T130407Z
UID:4256-1517184000-1517356799@www.pikrite.com
SUMMARY:Pennsylvania Decentralized Wastewater Conference and Trade Show
DESCRIPTION:This statewide event is the premier event in Pennsylvania for the septage industry and provides an excellent\nopportunity to learn from experts in the industry\, network with your colleagues\, and\nre-energize for the new year.
URL:https://www.pikrite.com/event/pennsylvania-decentralized-wastewater-conference-trade-show/
LOCATION:Red Lion Hotel\, 4751 Lindle Road\, Harrisburg\, PA\, 17111\, United States
CATEGORIES:Truck/Tank Trade Shows
END:VEVENT
BEGIN:VEVENT
DTSTART;VALUE=DATE:20170823
DTEND;VALUE=DATE:20170825
DTSTAMP:20260423T103707
CREATED:20170124T033854Z
LAST-MODIFIED:20170124T033854Z
UID:2973-1503446400-1503619199@www.pikrite.com
SUMMARY:National Association of Wastewater Technicians
DESCRIPTION:The National Association of Wastewater Technicians (NAWT) invites you to showcase your services at our 8 th Waste Treatment Symposium on Wednesday August 23 and Thursday August 24\, 2017. The location of the symposium will be at the DoubleTree Convention Center at 101 Mall Boulevard ǀ Monroeville\, PA 15146\, and at McCutcheon Enterprises located at 250 Park Road ǀ Apollo\, PA 15613. \nCall for booth and venue details. \n 
URL:https://www.pikrite.com/event/national-association-wastewater-technicians/
LOCATION:KY
CATEGORIES:Truck/Tank Trade Shows
END:VEVENT
BEGIN:VEVENT
DTSTART;VALUE=DATE:20170815
DTEND;VALUE=DATE:20170818
DTSTAMP:20260423T103707
CREATED:20170124T031551Z
LAST-MODIFIED:20170124T031551Z
UID:2961-1502755200-1503014399@www.pikrite.com
SUMMARY:Ag Progress Days
DESCRIPTION:Ag Progress Days features the latest technology and research exhibits\, educational programs\, and guided tours. Sponsored by Penn State’s College of Agricultural Sciences\, the event celebrates the forty-second year to be held at the Russell E. Larson Agricultural Research Center at Rock Springs\, nine miles southwest of State College\, PA. It is one of only three agricultural exhibitions in the country sponsored by a major University. Our exhibits showcase the latest in Penn State research\, as well as information on best management practices and changing regulations in the agricultural industry. \nWith close to 500 exhibitors from 34 states and 4 provinces of Canada\, we have something for everyone. Each year\, farming families from across Pennsylvania and surrounding states attend this three-day event. Of the 45\,000 expected attendees\, over 60 percent are actively engaged in agriculture or related professions. Come and learn about the latest innovations in the agricultural industry and spend your day with Penn State Extension educators. \nAg Progress Days features include: \n\n80+ acres for crops and machinery demonstrations\n55 acres for indoor and outdoor exhibits
URL:https://www.pikrite.com/event/ag-progress-days/
LOCATION:Russell E. Larson Agricultural Research Center\, 2710 W. Pine Grove Rd.\, Pennsylvania Furnace\, PA\, 16865
CATEGORIES:Ag Trade Shows
END:VEVENT
BEGIN:VEVENT
DTSTART;VALUE=DATE:20170809
DTEND;VALUE=DATE:20170812
DTSTAMP:20260423T103707
CREATED:20170124T031335Z
LAST-MODIFIED:20170124T031335Z
UID:2958-1502236800-1502495999@www.pikrite.com
SUMMARY:Empire Farm Days
DESCRIPTION:In 1931\, Empire State Potato Growers Association developed EFD to bring farmers the newest equipment\, info & techniques. The Rodman Lott family has hosted the event since 1988\, making 300 acres available for exhibits\, demos and activities. Thank you\, Lott family\, and all those who make this the best and largest outdoor ag trade show in the Northeast!
URL:https://www.pikrite.com/event/empire-farm-days/
LOCATION:Rodman Lott and Son Farms\, 2973 State Route 414\, Seneca Falls\, NY\, 13148
CATEGORIES:Ag Trade Shows
END:VEVENT
BEGIN:VEVENT
DTSTART;VALUE=DATE:20170316
DTEND;VALUE=DATE:20170319
DTSTAMP:20260423T103707
CREATED:20170124T033420Z
LAST-MODIFIED:20170124T033420Z
UID:2969-1489622400-1489881599@www.pikrite.com
SUMMARY:PSAI Show
DESCRIPTION:
URL:https://www.pikrite.com/event/psai-show/
LOCATION:Caribe Royale Orlando\, 8101 World Center Dr\, Orlando\, FL\, 32821
CATEGORIES:Truck/Tank Trade Shows
ORGANIZER;CN="Portable Sanitation Association International":MAILTO:info@psai.org
END:VEVENT
END:VCALENDAR